BEGIN:VCALENDAR
VERSION:2.0
PRODID:-//ABRES - ECPv6.15.17.1//NONSGML v1.0//EN
CALSCALE:GREGORIAN
METHOD:PUBLISH
X-WR-CALNAME:ABRES
X-ORIGINAL-URL:https://budzet.org.rs
X-WR-CALDESC:Events for ABRES
REFRESH-INTERVAL;VALUE=DURATION:PT1H
X-Robots-Tag:noindex
X-PUBLISHED-TTL:PT1H
BEGIN:VTIMEZONE
TZID:Europe/Helsinki
BEGIN:DAYLIGHT
TZOFFSETFROM:+0200
TZOFFSETTO:+0300
TZNAME:EEST
DTSTART:20250330T010000
END:DAYLIGHT
BEGIN:STANDARD
TZOFFSETFROM:+0300
TZOFFSETTO:+0200
TZNAME:EET
DTSTART:20251026T010000
END:STANDARD
BEGIN:DAYLIGHT
TZOFFSETFROM:+0200
TZOFFSETTO:+0300
TZNAME:EEST
DTSTART:20260329T010000
END:DAYLIGHT
BEGIN:STANDARD
TZOFFSETFROM:+0300
TZOFFSETTO:+0200
TZNAME:EET
DTSTART:20261025T010000
END:STANDARD
BEGIN:DAYLIGHT
TZOFFSETFROM:+0200
TZOFFSETTO:+0300
TZNAME:EEST
DTSTART:20270328T010000
END:DAYLIGHT
BEGIN:STANDARD
TZOFFSETFROM:+0300
TZOFFSETTO:+0200
TZNAME:EET
DTSTART:20271031T010000
END:STANDARD
END:VTIMEZONE
BEGIN:VEVENT
DTSTART;TZID=Europe/Helsinki:20260312T110000
DTEND;TZID=Europe/Helsinki:20260312T140000
DTSTAMP:20260421T181457
CREATED:20260223T095914Z
LAST-MODIFIED:20260312T101551Z
UID:4143-1773313200-1773324000@budzet.org.rs
SUMMARY:ИСПФИ - ЗА ЈАВНА ПРЕДУЗЕЋА
DESCRIPTION:ИСПФИ – ВЕБИНАР ЗА ЈАВНА ПРЕДУЗЕЋА\nДа ли сте спремни за правилно и благовремено достављање Извештаја о пословању путем сервиса Управе за трезор и апликације ИСПФИ?\nДостављање Извештаја о пословању јавних предузећа и друштава капитала која обављају делатност од општег интереса представља обавезу која захтева потпуну усклађеност са важећим правилницима\, прописаним обрасцима и јасно дефинисаним роковима. \nУ складу са изменама и допунама Правилника о начину и роковима за извештавање о пословању јавних предузећа и друштава капитала која обављају делатност од општег интереса („Службени гласник РС“\, број 107/2024 и 93/2025)\, уведене су додатне обавезе у погледу садржине образаца\, начина достављања и рокова за подношење месечних и тромесечних извештаја Министарству финансија – Управи за трезор\, путем апликације ИСПФИ. \nЗашто је извештавање путем ИСПФИ посебно изазовно?\nИзмене прописа доносе: \n\n\nпрецизније дефинисане обрасце извештаја \n\n\nобавезу месечног извештавања поред тромесечног \n\n\nстрожу контролу података кроз апликацију ИСПФИ \n\n\nповећану одговорност руководилаца и финансијских служби \n\n\nНеправилно или неблаговремено достављање извештаја може довести до опомена\, надзора и додатних контрола од стране надлежних органа. Управо зато је правовремена припрема и разумевање система од кључног значаја. \nШта ћете научити на вебинару „Извештај о пословању – ИСПФИ“?\nВебинар је конципиран тако да вам\, корак по корак\, објасни комплетан процес припреме\, попуњавања и достављања месечних и тромесечних извештаја о пословању путем апликације ИСПФИ. \nТеме које ће бити обрађене:\n\n\nправни оквир и најновије измене Правилника („Службени гласник РС“\, 107/2024 и 93/2025) \n\n\nко је обвезник достављања извештаја и које су њихове обавезе \n\n\nрокови за месечно и тромесечно извештавање \n\n\nдетаљно објашњење садржине и структуре образаца \n\n\nпрактичан рад у апликацији ИСПФИ (унос\, контрола и предаја података) \n\n\nусклађивање података са пословним књигама и интерним евиденцијама \n\n\nнајчешће грешке у пракси и како их избећи \n\n\nодговорност руководилаца и финансијских служби \n\n\nпитања и одговори – решавање конкретних дилема учесника \n\n\nКоме је вебинар намењен?\n\n\nјавним предузећима и друштвима капитала која обављају делатност од општег интереса \n\n\nрачуновођама и финансијским службама у јавном сектору \n\n\nруководиоцима и одговорним лицима \n\n\nсвима који учествују у припреми и достављању Извештаја о пословању Министарству финансија – Управи за трезор \n\n\nКо је предавач?\nНаташа Панић – економиста која се бави анализом и рачуноводственим аспектима информационих система Управе за трезор од 2019. године.
URL:https://budzet.org.rs/event/ispfi-12032026/
LOCATION:Вебинар
CATEGORIES:ЗАВРШЕНО
ATTACH;FMTTYPE=image/png:https://budzet.org.rs/wp-content/uploads/2025/08/ЗАВРШЕНО.png
END:VEVENT
END:VCALENDAR