BEGIN:VCALENDAR
VERSION:2.0
PRODID:-//ABRES - ECPv6.15.17.1//NONSGML v1.0//EN
CALSCALE:GREGORIAN
METHOD:PUBLISH
X-ORIGINAL-URL:https://budzet.org.rs
X-WR-CALDESC:Events for ABRES
REFRESH-INTERVAL;VALUE=DURATION:PT1H
X-Robots-Tag:noindex
X-PUBLISHED-TTL:PT1H
BEGIN:VTIMEZONE
TZID:Europe/Helsinki
BEGIN:DAYLIGHT
TZOFFSETFROM:+0200
TZOFFSETTO:+0300
TZNAME:EEST
DTSTART:20250330T010000
END:DAYLIGHT
BEGIN:STANDARD
TZOFFSETFROM:+0300
TZOFFSETTO:+0200
TZNAME:EET
DTSTART:20251026T010000
END:STANDARD
BEGIN:DAYLIGHT
TZOFFSETFROM:+0200
TZOFFSETTO:+0300
TZNAME:EEST
DTSTART:20260329T010000
END:DAYLIGHT
BEGIN:STANDARD
TZOFFSETFROM:+0300
TZOFFSETTO:+0200
TZNAME:EET
DTSTART:20261025T010000
END:STANDARD
BEGIN:DAYLIGHT
TZOFFSETFROM:+0200
TZOFFSETTO:+0300
TZNAME:EEST
DTSTART:20270328T010000
END:DAYLIGHT
BEGIN:STANDARD
TZOFFSETFROM:+0300
TZOFFSETTO:+0200
TZNAME:EET
DTSTART:20271031T010000
END:STANDARD
END:VTIMEZONE
BEGIN:VEVENT
DTSTART;TZID=Europe/Helsinki:20260225T110000
DTEND;TZID=Europe/Helsinki:20260225T140000
DTSTAMP:20260422T200910
CREATED:20260209T182941Z
LAST-MODIFIED:20260309T130058Z
UID:3907-1772017200-1772028000@budzet.org.rs
SUMMARY:ОБРАЗАЦ 5 - ИЗВЕШТАЈ О БУЏЕТУ
DESCRIPTION:ОБРАЗАЦ 5 – ИЗВЕШТАЈ О ИЗВРШЕЊУ БУЏЕТА ВЕБИНАР\nОвај вебинар је део посебне понуде 2 за 1\, у оквиру које се пријавом остварује пакет од ДВА вебинара по цени једног. Поред овог вебинара\, пријава обухвата и вебинар на тему  Информациони системи и завршни рачун за 2025. годину који се одржава 23.02.2026. \nКако на исправан начин попунити Образац 5 и доставити га у предвиђеном року\nУ складу са законским прописима\, као што су Правилник о начину припреме\, састављања и подношења финансијских извештаја и Уредба о буџетском рачуноводству\, корисници буџетских средстава и корисници средстава организација за обавезно социјално осигурање (ООСО) су дужни да достављају редовне финансијске извештаје користећи Образац 5\, који представља Извештај о извршењу буџета. Ови извештаји су кључни за праћење и контролу извршења буџета и морају бити достављени у прописаном року. \nЈеднодневна обука за правилно попуњавање Обрасца 5\, који је обавезан за кориснике буџетских средстава и кориснике средстава Републичког фонда за здравствено осигурање (РФЗО). \nЦиљеви обуке:\n\nСастављање извештаја на Обрасцу 5: Извештај о извршењу буџета који мора бити достављен до 10.априла 2025. за први квартал 2025.\nИзједначавање Главне књиге трезора и локалног софтвера\nКако се генеришу извештаји из система СПИ\nНачин рада са ПИВОТ табелама\nПровера књижења у складу са МРС\n\nЗначај обуке:\nКорисници буџетских средстава морају доставити периодичне финансијске извештаје надлежном кориснику у року од 10 дана по истеку тромесечја. Обука ће помоћи у правилном попуњавању Обрасца 5 и избегавању санкција због непоправног или касног достављања извештаја. \nПријавите се на време и осигурајте правилно попуњавање Обрасца 5 уз стручну подршку. \n 
URL:https://budzet.org.rs/event/obrazac-5-24022026/
LOCATION:Вебинар
CATEGORIES:ЗАВРШЕНО
ATTACH;FMTTYPE=image/png:https://budzet.org.rs/wp-content/uploads/2025/08/ЗАВРШЕНО.png
END:VEVENT
END:VCALENDAR