BEGIN:VCALENDAR
VERSION:2.0
PRODID:-//ABRES - ECPv6.15.17.1//NONSGML v1.0//EN
CALSCALE:GREGORIAN
METHOD:PUBLISH
X-WR-CALNAME:ABRES
X-ORIGINAL-URL:https://budzet.org.rs
X-WR-CALDESC:Events for ABRES
REFRESH-INTERVAL;VALUE=DURATION:PT1H
X-Robots-Tag:noindex
X-PUBLISHED-TTL:PT1H
BEGIN:VTIMEZONE
TZID:Europe/Helsinki
BEGIN:DAYLIGHT
TZOFFSETFROM:+0200
TZOFFSETTO:+0300
TZNAME:EEST
DTSTART:20250330T010000
END:DAYLIGHT
BEGIN:STANDARD
TZOFFSETFROM:+0300
TZOFFSETTO:+0200
TZNAME:EET
DTSTART:20251026T010000
END:STANDARD
BEGIN:DAYLIGHT
TZOFFSETFROM:+0200
TZOFFSETTO:+0300
TZNAME:EEST
DTSTART:20260329T010000
END:DAYLIGHT
BEGIN:STANDARD
TZOFFSETFROM:+0300
TZOFFSETTO:+0200
TZNAME:EET
DTSTART:20261025T010000
END:STANDARD
BEGIN:DAYLIGHT
TZOFFSETFROM:+0200
TZOFFSETTO:+0300
TZNAME:EEST
DTSTART:20270328T010000
END:DAYLIGHT
BEGIN:STANDARD
TZOFFSETFROM:+0300
TZOFFSETTO:+0200
TZNAME:EET
DTSTART:20271031T010000
END:STANDARD
END:VTIMEZONE
BEGIN:VEVENT
DTSTART;TZID=Europe/Helsinki:20260116T110000
DTEND;TZID=Europe/Helsinki:20260116T140000
DTSTAMP:20260422T213058
CREATED:20251208T090145Z
LAST-MODIFIED:20260212T090101Z
UID:3178-1768561200-1768572000@budzet.org.rs
SUMMARY:eБОЛОВАЊЕ - ЕЛЕКТРОНСКО БОЛОВАЊЕ
DESCRIPTION:СОФТВЕРСКО РЕШЕЊЕ “еБоловање – Послодавац“\nДонет је нови Закон о размени података у случају привремене спречености за рад\, којим се уводи обавезна примена софтверског решења „еБоловање – Послодавац“ за све послодавце од 1. јануара 2026. године\, а за предузетнике који запошљавају — од 1. јануара 2027. године. \nНови систем у потпуности мења начин на који послодавци примају и обрађују Потврде\, Извештаје и обрачуне накнада за време боловања. Сви документи убудуће се достављају искуључиво електронски\, преко новог веб портала\, уз аутоматску размену података са здравственим установама и организацијом за обавезно здравствено осигурање. \nДа би успешно користили систем\, послодавци морају: \n\n\nда се региструју преко еУправе као корисници електронских услуга \n\n\nда приступе порталу „е-Боловање – Послодавац“ \n\n\nда електронски примају Потврде и Извештаје лекара \n\n\nда електронски подносе захтеве за обрачун накнада \n\n\nда прате обавештења лекарских комисија \n\n\nНепридржавање законских обавеза повлачи новчане казне за правна лица и одговорна лица у организацији. \nУ циљу припреме за нови модел рада и разумевања свих функционалности система\, организујемо стручни вебинар на тему: \n🟦 „еБоловање – Послодавац: нове обавезе послодаваца и практична примена система од 2026. године“ \nНа вебинару ћемо објаснити: \n\n\nкако функционише електронско издавање Потврде и Извештаја \n\n\nкако се обрачунава и доставља накнада зараде \n\n\nкоји су кораци регистрације и првог приступа порталу \n\n\nкако изгледа размена са здравственим установама и лекарским комисијама \n\n\nкоје су обавезе послодавца\, а које осигураника \n\n\nкоје казнене одредбе ступају на снагу \n\n\nОво је прилика да се благовремено припремите за примену новог закона и избегнете ризик од прекршаја и кашњења у обради накнада.
URL:https://budzet.org.rs/event/%d0%b5-%d0%b1%d0%be%d0%bb%d0%be%d0%b2%d0%b0%d1%9a%d0%b5-2/
LOCATION:Вебинар
CATEGORIES:ЗАВРШЕНО
ATTACH;FMTTYPE=image/png:https://budzet.org.rs/wp-content/uploads/2025/08/ЗАВРШЕНО.png
END:VEVENT
END:VCALENDAR