BEGIN:VCALENDAR
VERSION:2.0
PRODID:-//ABRES - ECPv6.15.17.1//NONSGML v1.0//EN
CALSCALE:GREGORIAN
METHOD:PUBLISH
X-ORIGINAL-URL:https://budzet.org.rs
X-WR-CALDESC:Events for ABRES
REFRESH-INTERVAL;VALUE=DURATION:PT1H
X-Robots-Tag:noindex
X-PUBLISHED-TTL:PT1H
BEGIN:VTIMEZONE
TZID:Europe/Helsinki
BEGIN:DAYLIGHT
TZOFFSETFROM:+0200
TZOFFSETTO:+0300
TZNAME:EEST
DTSTART:20240331T010000
END:DAYLIGHT
BEGIN:STANDARD
TZOFFSETFROM:+0300
TZOFFSETTO:+0200
TZNAME:EET
DTSTART:20241027T010000
END:STANDARD
BEGIN:DAYLIGHT
TZOFFSETFROM:+0200
TZOFFSETTO:+0300
TZNAME:EEST
DTSTART:20250330T010000
END:DAYLIGHT
BEGIN:STANDARD
TZOFFSETFROM:+0300
TZOFFSETTO:+0200
TZNAME:EET
DTSTART:20251026T010000
END:STANDARD
BEGIN:DAYLIGHT
TZOFFSETFROM:+0200
TZOFFSETTO:+0300
TZNAME:EEST
DTSTART:20260329T010000
END:DAYLIGHT
BEGIN:STANDARD
TZOFFSETFROM:+0300
TZOFFSETTO:+0200
TZNAME:EET
DTSTART:20261025T010000
END:STANDARD
END:VTIMEZONE
BEGIN:VEVENT
DTSTART;TZID=Europe/Helsinki:20251114T110000
DTEND;TZID=Europe/Helsinki:20251114T140000
DTSTAMP:20260423T000850
CREATED:20250913T180417Z
LAST-MODIFIED:20251114T101147Z
UID:2164-1763118000-1763128800@budzet.org.rs
SUMMARY:Е-ОТПРЕМНИЦЕ
DESCRIPTION:Материјално пословање и еОтпремнице у пракси\nУправљање материјалним пословањем је битан елемент сваког пословног субјекта\, који обрађује овај сегмент финансија: \n\nОд пријема робе\, производа или материјала;\nИздавања пријемница\, издавања преносница\, издавања отпремница;\nВођење евиденција о стању на дан;\nУсклађености са другим пословним модулима ..\n\nИсправно вођење материјалног књиговодства обезбеђује поуздане податке за доношење пословних одлука и директно утиче на финансијску стабилност. Посебно место у овом процесу заузима отпремница\, као документ који потврђује кретање робе и везу између складишта\, транспорта и рачуноводства. \nСа преласком на електронске отпремнице\, материјално пословање улази у нову фазу дигитализације. \nЕДУКАЦИЈЕ КОЈЕ РЕАЛИЗУЈЕМО \nНаше едукације нуде основно разумевање\, како еОтпремница мења досадашњу праксу и шта то значи за различите учеснике у пословном процесу. \nЦиљ едукација је оспособити пословне субјекте за успешан прелазак са папирних на електронске отпремнице (еОтпремнице)\, у складу са новим Законом о електронској отпремници\, који од 2026. ступа на снагу за ЈАВНИ СЕКТОР\, а од 2027. за ПРИВАТНИ СЕКТОР.. \nЕДУКАЦИЈА ЈЕ НАМЕЊЕНА: \n\nУправљачком и финансијском менаџменту;\nРачуноводственим и обрачунским радницима;\nЗапосленима у секторима набавке\, продаје\, транспорта и логистике;\nИнтерним и екстерним ревизорима;\nИТ сектору.\n\nТЕМАТСКЕ ЦЕЛИНЕ: \n\nЗаконски оквир материјалног пословања;\nЗаконски оквир еОтпремница;\nТок пословног процеса у Материјалном пословању;\nОдговорност запослених;\nВеза између еФактура и еОтпремница;\nВеза са рачуноводственим софтверима\, ОРИС и СПИРИ системом;\nЕлектронски потпис\, дигитално чување и архивирање;\nКонтролинг систем;\nКазнене одредбе;\nПрактични примери.\n\n📩 Лакше ће Вам бити уколико заиста знате шта радите! Пријавите се на едукацију!
URL:https://budzet.org.rs/event/%d0%bc%d0%b0%d1%82%d0%b5%d1%80%d0%b8%d1%98%d0%b0%d0%bb%d0%bd%d0%be-%d0%bf%d0%be%d1%81%d0%bb%d0%be%d0%b2%d0%b0%d1%9a%d0%b5-%d0%b8-%d0%b5%d0%be%d1%82%d0%bf%d1%80%d0%b5%d0%bc%d0%bd%d0%b8%d1%86%d0%b5-3/
LOCATION:Вебинар
CATEGORIES:ЗАВРШЕНО
ATTACH;FMTTYPE=image/png:https://budzet.org.rs/wp-content/uploads/2025/08/ЗАВРШЕНО.png
END:VEVENT
END:VCALENDAR