BEGIN:VCALENDAR
VERSION:2.0
PRODID:-//ABRES - ECPv6.15.17.1//NONSGML v1.0//EN
CALSCALE:GREGORIAN
METHOD:PUBLISH
X-WR-CALNAME:ABRES
X-ORIGINAL-URL:https://budzet.org.rs
X-WR-CALDESC:Events for ABRES
REFRESH-INTERVAL;VALUE=DURATION:PT1H
X-Robots-Tag:noindex
X-PUBLISHED-TTL:PT1H
BEGIN:VTIMEZONE
TZID:Europe/Helsinki
BEGIN:DAYLIGHT
TZOFFSETFROM:+0200
TZOFFSETTO:+0300
TZNAME:EEST
DTSTART:20240331T010000
END:DAYLIGHT
BEGIN:STANDARD
TZOFFSETFROM:+0300
TZOFFSETTO:+0200
TZNAME:EET
DTSTART:20241027T010000
END:STANDARD
BEGIN:DAYLIGHT
TZOFFSETFROM:+0200
TZOFFSETTO:+0300
TZNAME:EEST
DTSTART:20250330T010000
END:DAYLIGHT
BEGIN:STANDARD
TZOFFSETFROM:+0300
TZOFFSETTO:+0200
TZNAME:EET
DTSTART:20251026T010000
END:STANDARD
BEGIN:DAYLIGHT
TZOFFSETFROM:+0200
TZOFFSETTO:+0300
TZNAME:EEST
DTSTART:20260329T010000
END:DAYLIGHT
BEGIN:STANDARD
TZOFFSETFROM:+0300
TZOFFSETTO:+0200
TZNAME:EET
DTSTART:20261025T010000
END:STANDARD
END:VTIMEZONE
BEGIN:VEVENT
DTSTART;TZID=Europe/Helsinki:20251017T110000
DTEND;TZID=Europe/Helsinki:20251017T140000
DTSTAMP:20260423T012413
CREATED:20250923T151253Z
LAST-MODIFIED:20251017T105734Z
UID:2374-1760698800-1760709600@budzet.org.rs
SUMMARY:СТВАРНИ ВЛАСНИЦИ
DESCRIPTION:ПОЗИВ ЗА СТРУЧНУ ЕДУКАЦИЈУ – Нови Закон о Централној евиденцији стварних власника\nОпис догађаја: \nНови Закон о Централној евиденцији стварних власника ступио је на снагу 14. марта 2025. године и доноси значајне измене за све правне субјекте у Републици Србији. Сви регистровани привредни субјекти дужни су да ускладе своје податке у року од 60 дана од почетка примене закона\, односно најкасније до 30. новембра 2025. године. \nНепридржавање законских обавеза може имати озбиљне последице: новчане казне од 500.000 до 2.000.000 динара за правна лица\, као и од 50.000 до 150.000 динара за одговорна лица\, а у тежим случајевима предвиђена је и казна затвора од 6 месеци до 5 година. Поред тога\, Закон предвиђа и заштитне мере – привредном друштву може бити изречена привремена забрана обављања одређених делатности\, док одговорна лица могу добити забрану рада у својој струци у периоду од 6 месеци до 3 године. \nНа едукацији ћете сазнати: \nКо је обавезан да евидентира стварног власника и шта се сматра стварним власником према новим правилима. \nКако правилно евидентирати физичка и правна лица која испуњавају услове за стварног власника по сваком основу. \nНа који начин вршити проверу података и која документација је потребна. \nКо врши контролу и праћење евиденције – Агенција за привредне регистре\, Народна банка Србије и Комисија за хартије од вредности. \nПоследице неправилног уноса или скривања података\, укључујући новчане казне и потенцијалне затворске санкције. \nПовезаност Закона са Законом о спречавању прања новца и финансирања тероризма. \nПрепоруке и добре праксе за рачуноводствене агенције и одговорна лица у привредним друштвима. \nЗашто присуствовати:\nОва едукација је посебно корисна јер ће учесници добити практичне смернице и примере како да: \n\nблаговремено спроведу усклађивање података\,\nизбегну високе казне и додатне контроле\,\nправилно евидентирају стварне власнике и припреме комплетну документацију\,\nупуте своје клијенте на прави начин уколико раде у рачуноводственим агенцијама.\n\nНаша стручна предавачка екипа пружиће детаљна објашњења и практичне савете\, осигуравајући да сви учесници стекну јасну слику обавеза и ризика у вези са новим Законом.
URL:https://budzet.org.rs/event/%d1%81%d1%82%d0%b2%d0%b0%d1%80%d0%bd%d0%b8-%d0%b2%d0%bb%d0%b0%d1%81%d0%bd%d0%b8%d1%86%d0%b8/
LOCATION:Вебинар
CATEGORIES:ЗАВРШЕНО
ATTACH;FMTTYPE=image/png:https://budzet.org.rs/wp-content/uploads/2025/08/ЗАВРШЕНО.png
END:VEVENT
END:VCALENDAR